BEGIN:VCALENDAR
VERSION:2.0
METHOD:PUBLISH
PRODID:-//Accessible Web Design//My Calendar//http://www.joedolson.com//v3.1.17//EN';
BEGIN:VEVENT
UID:7-7
LOCATION:KSV 1952 Berghausen e.V, Ringerhalle Touristenweg 9  Pfinztal  76327
SUMMARY:KSV Berghausen 1 und 2 vs SVG 1 und 2
DTSTAMP:20141220T183000
ORGANIZER;CN=Karl Stein:MAILTO:kalll@t-online.de
DTSTART:20141220T183000
DTEND:20141220T230000
CATEGORIES:Auswärtskampf
URL;VALUE=URI:
DESCRIPTION;ENCODING=QUOTED-PRINTABLE: 
END:VEVENT
END:VCALENDAR