BEGIN:VCALENDAR
VERSION:2.0
METHOD:PUBLISH
PRODID:-//Accessible Web Design//My Calendar//http://www.joedolson.com//v3.1.17//EN';
BEGIN:VEVENT
UID:611-55
LOCATION:
SUMMARY:Landesmeisterschaft griechisch-römisch
DTSTAMP:20180203T000000
ORGANIZER;CN=Stefan Kraft:MAILTO:de-kloane-kraft@web.de
DTSTART:20180203T000000
DTEND:20180204T000000
CATEGORIES:Veranstaltung
URL;VALUE=URI:
DESCRIPTION;ENCODING=QUOTED-PRINTABLE:Langenberghalle Birkenau 
X-FUNAMBOL-ALLDAY: 1
X-MICROSOFT-CDO-ALLDAYEVENT: TRUE

END:VEVENT
END:VCALENDAR