BEGIN:VCALENDAR
VERSION:2.0
METHOD:PUBLISH
PRODID:-//Accessible Web Design//My Calendar//http://www.joedolson.com//v3.1.17//EN';
BEGIN:VEVENT
UID:610-48
LOCATION:
SUMMARY:Erster Heimkampf der Rückrunde für die SVG-Ringer gegen Östringen bzw. Sandhofen
DTSTAMP:20171117T000000
ORGANIZER;CN=Stefan Kraft:MAILTO:de-kloane-kraft@web.de
DTSTART:20171117T000000
DTEND:20171118T000000
CATEGORIES:Heimkampf
URL;VALUE=URI:
DESCRIPTION;ENCODING=QUOTED-PRINTABLE:KampfbeginnSVG 2: 19:00 UhrSVG 1: 20:30 Uhr 
X-FUNAMBOL-ALLDAY: 1
X-MICROSOFT-CDO-ALLDAYEVENT: TRUE

END:VEVENT
END:VCALENDAR