BEGIN:VCALENDAR
VERSION:2.0
METHOD:PUBLISH
PRODID:-//Accessible Web Design//My Calendar//http://www.joedolson.com//v3.1.17//EN';
BEGIN:VEVENT
UID:608-53
LOCATION:
SUMMARY:Letzter Auswärtskampf für die SVG Mannschaften
DTSTAMP:20171209T000000
ORGANIZER;CN=Stefan Kraft:MAILTO:de-kloane-kraft@web.de
DTSTART:20171209T000000
DTEND:20171210T000000
CATEGORIES:Auswärtskampf
URL;VALUE=URI:
DESCRIPTION;ENCODING=QUOTED-PRINTABLE:SVG 2 in Daxlanden - Kampfbeginn: 20:00 UhrSVG 1 in Weingarten - Achtung Kampfbeginn: 17:30 Uhr&nbsp; 
X-FUNAMBOL-ALLDAY: 1
X-MICROSOFT-CDO-ALLDAYEVENT: TRUE

END:VEVENT
END:VCALENDAR