BEGIN:VCALENDAR
VERSION:2.0
METHOD:PUBLISH
PRODID:-//Accessible Web Design//My Calendar//http://www.joedolson.com//v3.1.17//EN';
BEGIN:VEVENT
UID:602-50
LOCATION:
SUMMARY:Erster Heimkampf der Rückrunde für die SVG-Ringer gegen Östringen bzw. Sandhofen
DTSTAMP:20170921T000000
ORGANIZER;CN=Stefan Kraft:MAILTO:de-kloane-kraft@web.de
DTSTART:20170921T000000
DTEND:20170922T000000
CATEGORIES:Veranstaltung
URL;VALUE=URI:
DESCRIPTION;ENCODING=QUOTED-PRINTABLE:Kampfbeginn  ist aufgrund des freitags um 19:00 bzw. 20:30 Uhr 
X-FUNAMBOL-ALLDAY: 1
X-MICROSOFT-CDO-ALLDAYEVENT: TRUE

END:VEVENT
END:VCALENDAR