BEGIN:VCALENDAR
VERSION:2.0
METHOD:PUBLISH
PRODID:-//Accessible Web Design//My Calendar//http://www.joedolson.com//v3.1.17//EN';
BEGIN:VEVENT
UID:601-45
LOCATION:
SUMMARY:SVG bestreitet ersten Rückrundenkampf in Kirrlach
DTSTAMP:20171028T000000
ORGANIZER;CN=Stefan Kraft:MAILTO:de-kloane-kraft@web.de
DTSTART:20171028T000000
DTEND:20171029T000000
CATEGORIES:Auswärtskampf
URL;VALUE=URI:
DESCRIPTION;ENCODING=QUOTED-PRINTABLE:SVG 2: 18:30SVG 1: 20:00 
X-FUNAMBOL-ALLDAY: 1
X-MICROSOFT-CDO-ALLDAYEVENT: TRUE

END:VEVENT
END:VCALENDAR