BEGIN:VCALENDAR
VERSION:2.0
METHOD:PUBLISH
PRODID:-//Accessible Web Design//My Calendar//http://www.joedolson.com//v3.1.17//EN';
BEGIN:VEVENT
UID:6-6
LOCATION:SVG Nieder-Liebersbach, Sporthalle  Liebersbacher Straße 137  Birkenau Hessen 69488
SUMMARY:SVG 1 und 2 vs KSV Kirrlach 1 und 2
DTSTAMP:20141213T183000
ORGANIZER;CN=Karl Stein:MAILTO:kalll@t-online.de
DTSTART:20141213T183000
DTEND:20141213T230000
CATEGORIES:Heimkampf
URL;VALUE=URI:
DESCRIPTION;ENCODING=QUOTED-PRINTABLE: 
END:VEVENT
END:VCALENDAR