BEGIN:VCALENDAR
VERSION:2.0
METHOD:PUBLISH
PRODID:-//Accessible Web Design//My Calendar//http://www.joedolson.com//v3.1.17//EN';
BEGIN:VEVENT
UID:592-42
LOCATION:
SUMMARY:SVG 1 bestreitet den letzten Kampf der Vorrunde in Ziegelhausen
DTSTAMP:20171021T000000
ORGANIZER;CN=Stefan Kraft:MAILTO:de-kloane-kraft@web.de
DTSTART:20171021T000000
DTEND:20171022T000000
CATEGORIES:Auswärtskampf
URL;VALUE=URI:
DESCRIPTION;ENCODING=QUOTED-PRINTABLE:20:00 
X-FUNAMBOL-ALLDAY: 1
X-MICROSOFT-CDO-ALLDAYEVENT: TRUE

END:VEVENT
END:VCALENDAR