BEGIN:VCALENDAR
VERSION:2.0
METHOD:PUBLISH
PRODID:-//Accessible Web Design//My Calendar//http://www.joedolson.com//v3.1.17//EN';
BEGIN:VEVENT
UID:590-41
LOCATION:
SUMMARY:SVG 1 gegen Weingarten - SVG 2 gegen Daxlanden
DTSTAMP:20171014T000000
ORGANIZER;CN=Stefan Kraft:MAILTO:de-kloane-kraft@web.de
DTSTART:20171014T000000
DTEND:20171015T000000
CATEGORIES:Heimkampf
URL;VALUE=URI:
DESCRIPTION;ENCODING=QUOTED-PRINTABLE:KampfbeginnSVG 2: 18:30 UhrSVG 1: 20:00 Uhr 
X-FUNAMBOL-ALLDAY: 1
X-MICROSOFT-CDO-ALLDAYEVENT: TRUE

END:VEVENT
END:VCALENDAR