BEGIN:VCALENDAR
VERSION:2.0
METHOD:PUBLISH
PRODID:-//Accessible Web Design//My Calendar//http://www.joedolson.com//v3.1.17//EN';
BEGIN:VEVENT
UID:584-35
LOCATION:SVG Nieder-Liebersbach, Sporthalle  Liebersbacher Straße 137  Birkenau Hessen 69488
SUMMARY:SVG 1 zu Hause gegen Ketsch - SVG 2 ringt gegen Berghausen
DTSTAMP:20170923T000000
ORGANIZER;CN=Stefan Kraft:MAILTO:de-kloane-kraft@web.de
DTSTART:20170923T000000
DTEND:20170924T000000
CATEGORIES:Heimkampf
URL;VALUE=URI:
DESCRIPTION;ENCODING=QUOTED-PRINTABLE: 
X-FUNAMBOL-ALLDAY: 1
X-MICROSOFT-CDO-ALLDAYEVENT: TRUE

END:VEVENT
END:VCALENDAR