BEGIN:VCALENDAR
VERSION:2.0
METHOD:PUBLISH
PRODID:-//Accessible Web Design//My Calendar//http://www.joedolson.com//v3.1.17//EN';
BEGIN:VEVENT
UID:567-31
LOCATION:
SUMMARY:Kerwe bei den Ringern
DTSTAMP:20170901T000000
ORGANIZER;CN=Stefan Kraft:MAILTO:de-kloane-kraft@web.de
DTSTART:20170901T000000
DTEND:20170905T000000
CATEGORIES:Veranstaltung
URL;VALUE=URI:
DESCRIPTION;ENCODING=QUOTED-PRINTABLE:Vom 1. bis 4.9.2017 findet in Nieder-Liebersbach die Liewerschbescher Kerwe statt.Traditionell sind auch die Ringer wieder dabei.Von Freitag bis Montag dürfen sich die Gäste der Ringer auf die leckeren Speisen wie Gyros, Wurstsalat sowie Brat- und Currywurst freuen.Am Kerwesonntag findet sich neben den obligatorischen gebratenen Champignons mit selbstgemachter Aioli auch wieder das "Gedeck" auf der Speisekarte. Dies beinhaltet Kartoffelwurst mit Bauernbrot, ein Glas Apfelwein sowie einen Schnaps.Wer gemütlich etwas Trinken möchte, wird sicher auf der Getränkekarte auch etwas finden....In diesem Sinne wünschen die Ringer einige Stunden fröhliches Beisammensein. 
X-FUNAMBOL-ALLDAY: 1
X-MICROSOFT-CDO-ALLDAYEVENT: TRUE

END:VEVENT
END:VCALENDAR