BEGIN:VCALENDAR
VERSION:2.0
METHOD:PUBLISH
PRODID:-//Accessible Web Design//My Calendar//http://www.joedolson.com//v3.1.17//EN';
BEGIN:VEVENT
UID:566-30
LOCATION:
SUMMARY:Erster Heimkampf der SVG-Ringer
DTSTAMP:20170901T190000
ORGANIZER;CN=Stefan Kraft:MAILTO:de-kloane-kraft@web.de
DTSTART:20170901T190000
DTEND:20170901T220000
CATEGORIES:Heimkampf
URL;VALUE=URI:
DESCRIPTION;ENCODING=QUOTED-PRINTABLE:Am kommenden Freitag ist die ringkampffreie Zeit zu Ende!Die Ringer der SVG Nieder-Liebersbach bestreiten ihren ersten Heimkampf in der Saison 2017 und das zum zeitgleichen Beginn der Liebersbacher Kerwe.Dabei sind beide Mannschaften gegen die Staffeln aus Kirrlach aktiv. Die 2. Mannschaft beginnt bereits um 19 Uhr, bis sich dann um 20:30 Uhr die 1. Mannschaft erstmals in der alten SVG-Halle präsentiert.Nach zwei hoffentlich siegreichen Kämpfen wird im Anschluss im Ringerzelt auf der Kerwe gefeiert.Die Ringer freuen sich über zahlreiche Zuschauer beim Kampf. 
END:VEVENT
END:VCALENDAR