BEGIN:VCALENDAR
VERSION:2.0
METHOD:PUBLISH
PRODID:-//Accessible Web Design//My Calendar//http://www.joedolson.com//v3.1.17//EN';
BEGIN:VEVENT
UID:565-29
LOCATION:
SUMMARY:DM A-Jugend GR 07.04.-09.04.2017
DTSTAMP:20170407T000000
ORGANIZER;CN=Marion Stein:MAILTO:marionstein@freenet.de
DTSTART:20170407T000000
DTEND:20170410T000000
CATEGORIES:Veranstaltung
URL;VALUE=URI:
DESCRIPTION;ENCODING=QUOTED-PRINTABLE: 
X-FUNAMBOL-ALLDAY: 1
X-MICROSOFT-CDO-ALLDAYEVENT: TRUE

END:VEVENT
END:VCALENDAR