BEGIN:VCALENDAR
VERSION:2.0
METHOD:PUBLISH
PRODID:-//Accessible Web Design//My Calendar//http://www.joedolson.com//v3.1.17//EN';
BEGIN:VEVENT
UID:561-27
LOCATION:SVG Nieder-Liebersbach, Sporthalle  Liebersbacher Straße 137  Birkenau Hessen 69488
SUMMARY:SVG Schlachtfest
DTSTAMP:20160501T110000
ORGANIZER;CN=Marion Stein:MAILTO:marionstein@freenet.de
DTSTART:20160501T110000
DTEND:20160501T180000
CATEGORIES:Veranstaltung
URL;VALUE=URI:
DESCRIPTION;ENCODING=QUOTED-PRINTABLE: 
END:VEVENT
END:VCALENDAR