BEGIN:VCALENDAR
VERSION:2.0
METHOD:PUBLISH
PRODID:-//Accessible Web Design//My Calendar//http://www.joedolson.com//v3.1.17//EN';
BEGIN:VEVENT
UID:555-21
LOCATION:
SUMMARY:Landesmeisterschaften aller Altersklassen Freistil
DTSTAMP:20160124T000000
ORGANIZER;CN=Karl Stein:MAILTO:kalll@t-online.de
DTSTART:20160124T000000
DTEND:20160125T000000
CATEGORIES:Veranstaltung
URL;VALUE=URI:
DESCRIPTION;ENCODING=QUOTED-PRINTABLE:Vereine welche eine Meisterschaft ausrichten möchten, bitte ich um Bewerbung mit der Zusage der Hallenreservierung und Nutzung.Die Meisterschaften am 23.   24. Januar sollten von einem Verein ausgerichtet werden. 
END:VEVENT
END:VCALENDAR