BEGIN:VCALENDAR
VERSION:2.0
METHOD:PUBLISH
PRODID:-//Accessible Web Design//My Calendar//http://www.joedolson.com//v3.1.17//EN';
BEGIN:VEVENT
UID:307-13
LOCATION:Ringkampfgemeinschaft Reilingen-Hockenheim e.V., Fritz-Mannh Wilhelmstraße 44  Reilingen  68799
SUMMARY:LM – alle Altersklassen FS in Reilingen
DTSTAMP:20150201T000000
ORGANIZER;CN=Karl Stein:MAILTO:kalll@t-online.de
DTSTART:20150201T000000
DTEND:20150201T000000
CATEGORIES:Veranstaltung
URL;VALUE=URI:
DESCRIPTION;ENCODING=QUOTED-PRINTABLE:Landesmeisterschaft FreistilReilingenDeutschlandFritz Mannherz HalleDatum So. 01.02.15 RKG Reilingen-Hockenh. 
END:VEVENT
END:VCALENDAR