BEGIN:VCALENDAR
VERSION:2.0
METHOD:PUBLISH
PRODID:-//Accessible Web Design//My Calendar//http://www.joedolson.com//v3.1.17//EN';
BEGIN:VEVENT
UID:306-14
LOCATION:SRC Viernheim, Waldsporthalle Industriestraße 21-23  Viernheim  68519
SUMMARY:LM – alle Altersklassen GR in Viernheim
DTSTAMP:20150207T103000
ORGANIZER;CN=Karl Stein:MAILTO:kalll@t-online.de
DTSTART:20150207T103000
DTEND:20150208T000000
CATEGORIES:Veranstaltung
URL;VALUE=URI:
DESCRIPTION;ENCODING=QUOTED-PRINTABLE:Landesmeisterschaft gr.-röm.ViernheimDeutschlandWaldsporthalleDatum Sa. 07.02.15SRC Viernheim 
END:VEVENT
END:VCALENDAR