BEGIN:VCALENDAR
VERSION:2.0
METHOD:PUBLISH
PRODID:-//Accessible Web Design//My Calendar//http://www.joedolson.com//v3.1.17//EN';
BEGIN:VEVENT
UID:304-12
LOCATION:ASV Ladenburg, Lobdengauhalle Realschulstraße 2  Ladenburg  68526
SUMMARY:BM Nord – GR in Ladenburg
DTSTAMP:20150125T000000
ORGANIZER;CN=Karl Stein:MAILTO:kalll@t-online.de
DTSTART:20150125T000000
DTEND:20150126T000000
CATEGORIES:Veranstaltung
URL;VALUE=URI:
DESCRIPTION;ENCODING=QUOTED-PRINTABLE:Bezirksmeisterschaft Nord 2015LadenburgDeutschlandLobdengauhalle LadenburgDatum So. 25.01.15 
END:VEVENT
END:VCALENDAR