BEGIN:VCALENDAR
VERSION:2.0
METHOD:PUBLISH
PRODID:-//Accessible Web Design//My Calendar//http://www.joedolson.com//v3.1.17//EN';
BEGIN:VEVENT
UID:303-11
LOCATION:ASV Ladenburg, Lobdengauhalle Realschulstraße 2  Ladenburg  68526
SUMMARY:Baden-Württembergische Junioren beide Stilarten in Ladenburg
DTSTAMP:20150124T000000
ORGANIZER;CN=Karl Stein:MAILTO:kalll@t-online.de
DTSTART:20150124T000000
DTEND:20150125T000000
CATEGORIES:Veranstaltung
URL;VALUE=URI:
DESCRIPTION;ENCODING=QUOTED-PRINTABLE:Bezirksmeisterschaft - Gruppe NordderMänner / A / B / C / D / E - Jugend– Freistil –12. Januar 2014ASV Ladenburg, Herbert Maier, Mühlgewann 2068526 LadenburgFax 06203/79684Tel.: 06203/13192 
END:VEVENT
END:VCALENDAR