BEGIN:VCALENDAR
VERSION:2.0
METHOD:PUBLISH
PRODID:-//Accessible Web Design//My Calendar//http://www.joedolson.com//v3.1.17//EN';
BEGIN:VEVENT
UID:302-10
LOCATION:
SUMMARY:Baden-Württembergische Meisterschaften– weiblich
DTSTAMP:20150117T093000
ORGANIZER;CN=Karl Stein:MAILTO:kalll@t-online.de
DTSTART:20150117T093000
DTEND:20150117T170000
CATEGORIES:Veranstaltung
URL;VALUE=URI:
DESCRIPTION;ENCODING=QUOTED-PRINTABLE:Baden-Württembergische Meisterschaften weiblichKirchheim am NeckarDeutschlandSporthalle auf den LaiernDatum Sa. 17.01.15Ausrichtender Verein KSV Kirchheim/N.Zur Homepage 
END:VEVENT
END:VCALENDAR