BEGIN:VCALENDAR
VERSION:2.0
METHOD:PUBLISH
PRODID:-//Accessible Web Design//My Calendar//http://www.joedolson.com//v3.1.17//EN';
BEGIN:VEVENT
UID:1-1
LOCATION:Dorfgemeinschaftshaus Nieder-Liebersbach Sulzbacher Straße 2-4  Birkenau Hessen 69488
SUMMARY:Weihnachtsfeier SVG-Ringer
DTSTAMP:20141221T100000
ORGANIZER;CN=Karl Stein:MAILTO:kalll@t-online.de
DTSTART:20141221T100000
DTEND:20141221T170000
CATEGORIES:Veranstaltung
URL;VALUE=URI:
DESCRIPTION;ENCODING=QUOTED-PRINTABLE:Anmeldeformular 
END:VEVENT
END:VCALENDAR